BEGIN:VCALENDAR
VERSION:2.0
PRODID:-//My Maryland Divorce - ECPv6.15.12.2//NONSGML v1.0//EN
CALSCALE:GREGORIAN
METHOD:PUBLISH
X-WR-CALNAME:My Maryland Divorce
X-ORIGINAL-URL:https://mymarylanddivorce.com
X-WR-CALDESC:Events for My Maryland Divorce
REFRESH-INTERVAL;VALUE=DURATION:PT1H
X-Robots-Tag:noindex
X-PUBLISHED-TTL:PT1H
BEGIN:VTIMEZONE
TZID:UTC
BEGIN:STANDARD
TZOFFSETFROM:+0000
TZOFFSETTO:+0000
TZNAME:UTC
DTSTART:20240101T000000
END:STANDARD
END:VTIMEZONE
BEGIN:VEVENT
DTSTART;TZID=UTC:20250904T123000
DTEND;TZID=UTC:20250904T133000
DTSTAMP:20260425T023357
CREATED:20250729T172207Z
LAST-MODIFIED:20250729T173636Z
UID:1113-1756989000-1756992600@mymarylanddivorce.com
SUMMARY:MCD Professionals Sep 4\, 2025 - General Membership Meeting and Lunch
DESCRIPTION:Join the Maryland Collaborative Divorce Professionals for lunch and a presentation by Lindsay Parvis\, Esq.\, Principal at Joseph | Greenwald | Lake. She will be discussing Mental Health Privilege in Action in Collaborative Cases.  \nYou may attend in person or via Zoom. Either way\, please register! \nREGISTER HERE
URL:https://mymarylanddivorce.com/event/mcd-professionals-sep-4-2025-general-membership-meeting-and-lunch/
LOCATION:West End Grill\, 2049 West St.\, Annapolis\, 21401\, United States
CATEGORIES:Events for Professionals Only
ORGANIZER;CN="Julie Landau":MAILTO:jlandau@landaulaw.com
END:VEVENT
END:VCALENDAR