BEGIN:VCALENDAR
VERSION:2.0
PRODID:-//My Maryland Divorce - ECPv6.15.12.2//NONSGML v1.0//EN
CALSCALE:GREGORIAN
METHOD:PUBLISH
X-WR-CALNAME:My Maryland Divorce
X-ORIGINAL-URL:https://mymarylanddivorce.com
X-WR-CALDESC:Events for My Maryland Divorce
REFRESH-INTERVAL;VALUE=DURATION:PT1H
X-Robots-Tag:noindex
X-PUBLISHED-TTL:PT1H
BEGIN:VTIMEZONE
TZID:UTC
BEGIN:STANDARD
TZOFFSETFROM:+0000
TZOFFSETTO:+0000
TZNAME:UTC
DTSTART:20250101T000000
END:STANDARD
END:VTIMEZONE
BEGIN:VEVENT
DTSTART;TZID=UTC:20260205T120000
DTEND;TZID=UTC:20260205T133000
DTSTAMP:20260422T065110
CREATED:20260119T195829Z
LAST-MODIFIED:20260119T195829Z
UID:1212-1770292800-1770298200@mymarylanddivorce.com
SUMMARY:MCD Professionals February 5\, 2026 - Presentation & Luncheon
DESCRIPTION:Join the Maryland Collaborative Divorce professionals at West End Grill for lunch and an interactive program focusing on real estate in divorce led by Robin McCarthy and our very own Will Camacho and Gretchen Conley. \nBeyond The Split: Real Estate Challenges and Solutions in Divorce: Come join us for an engaging informal conversation with a panel of real estate professionals about the challenges and solutions our clients face regarding the disposition of the family home. Will Camacho (Certified Divorce Lending Professional)\, Gretchen Conley (Real Estate Agent)\, and Robin McCarthy (Certified Real Estate Appraiser) will answer your questions and discuss ways to tackle the practical and emotional real estate related issues divorcing parties face so we can help them get “beyond the split”. \nWe are interested in answering your questions on this topic\, including real estate challenges you have when trying to reach agreements regarding the disposition of the family home or any other questions you would like discussed. You will have the opportunity to submit questions when registering through Zeffy and the registration confirmation email will also provide instructions for submitting questions by emailing Gretchen. \nThe cost is $25 for Members\, $30 for non-Members \nREGISTER HERE
URL:https://mymarylanddivorce.com/event/mcd-professionals-february-5-2026-presentation-luncheon/
LOCATION:West End Grill\, 2049 West St.\, Annapolis\, 21401\, United States
CATEGORIES:Events for Professionals Only
ORGANIZER;CN="Maryland Collaborative Divorce":MAILTO:eprice@paradigmforensics.com
END:VEVENT
END:VCALENDAR